BEGIN:VCALENDAR
VERSION:2.0
PRODID:-//Stamford Downtown - ECPv6.15.18//NONSGML v1.0//EN
CALSCALE:GREGORIAN
METHOD:PUBLISH
X-WR-CALNAME:Stamford Downtown
X-ORIGINAL-URL:https://stamford-downtown.com
X-WR-CALDESC:Events for Stamford Downtown
REFRESH-INTERVAL;VALUE=DURATION:PT1H
X-Robots-Tag:noindex
X-PUBLISHED-TTL:PT1H
BEGIN:VTIMEZONE
TZID:America/New_York
BEGIN:DAYLIGHT
TZOFFSETFROM:-0500
TZOFFSETTO:-0400
TZNAME:EDT
DTSTART:20250309T070000
END:DAYLIGHT
BEGIN:STANDARD
TZOFFSETFROM:-0400
TZOFFSETTO:-0500
TZNAME:EST
DTSTART:20251102T060000
END:STANDARD
BEGIN:DAYLIGHT
TZOFFSETFROM:-0500
TZOFFSETTO:-0400
TZNAME:EDT
DTSTART:20260308T070000
END:DAYLIGHT
BEGIN:STANDARD
TZOFFSETFROM:-0400
TZOFFSETTO:-0500
TZNAME:EST
DTSTART:20261101T060000
END:STANDARD
BEGIN:DAYLIGHT
TZOFFSETFROM:-0500
TZOFFSETTO:-0400
TZNAME:EDT
DTSTART:20270314T070000
END:DAYLIGHT
BEGIN:STANDARD
TZOFFSETFROM:-0400
TZOFFSETTO:-0500
TZNAME:EST
DTSTART:20271107T060000
END:STANDARD
END:VTIMEZONE
BEGIN:VEVENT
DTSTART;VALUE=DATE:20260321
DTEND;VALUE=DATE:20260620
DTSTAMP:20260424T071402
CREATED:20260317T203546Z
LAST-MODIFIED:20260317T203546Z
UID:10002052-1774051200-1781913599@stamford-downtown.com
SUMMARY:Grotesque & Glyphs Art Exhibition at U & I Deco
DESCRIPTION:Experience the striking dialogue between surreal grotesque imagery and contemporary calligraphy in this distinctive dual art exhibition. \nOpening Reception: Saturday\, March 21 | 4-7pm \nLocation: U & I Deco Gallery\, 96 Bedford Street
URL:https://stamford-downtown.com/event/grotesque-glyphs-art-exhibition-at-u-i-deco/
LOCATION:U & I Deco Fine Arts & Framing\, 96 Bedford Street\, Stamford\, CT\, 06901\, United States
CATEGORIES:Community Events
ATTACH;FMTTYPE=image/jpeg:https://stamford-downtown.com/wp-content/uploads/formidable/5/IMG_8763.jpeg
END:VEVENT
BEGIN:VEVENT
DTSTART;VALUE=DATE:20260501
DTEND;VALUE=DATE:20260502
DTSTAMP:20260424T071402
CREATED:20260407T202258Z
LAST-MODIFIED:20260407T202258Z
UID:10002061-1777593600-1777679999@stamford-downtown.com
SUMMARY:COMEDY - LEAVE 'EM LAUGHING
DESCRIPTION:Al Lubel – He’s won Star Search and has appeared in dozens of late night television shows including The Late Show with David Letterman and The Tonight Show with Jay Leno.  \nJoanne Filan – Performing at The Friars Club\, Broadway Comedy Club\, Caroline’s\, Greenwich Village Comedy Club and more\, She even reaches the masses through her TV and media appearances\,  \nShaun Eli –  A master storyteller who finds the humor in everyday life. He’s been featured in a New York Times profile and has  appeared on both Amazon and Netflix. \nCOMPLIMENTARY FOOD AND BEVERAGES OFFERED AFTER THE SHOW
URL:https://stamford-downtown.com/event/comedy-leave-em-laughing/
CATEGORIES:Community Events
ATTACH;FMTTYPE=image/jpeg:https://stamford-downtown.com/wp-content/uploads/formidable/5/26-0312-LAWN-Banner-Comedy-Event.jpg
END:VEVENT
BEGIN:VEVENT
DTSTART;TZID=America/New_York:20260502T000000
DTEND;TZID=America/New_York:20260502T000000
DTSTAMP:20260424T071402
CREATED:20260325T143440Z
LAST-MODIFIED:20260325T143440Z
UID:10002058-1777680000-1777680000@stamford-downtown.com
SUMMARY:Djembe Drum Classes
DESCRIPTION:Drumming is fun\, feels good and is easier than you think. In these classes\, Matthew Broad teaches Djembe hand positions\, simple rhythms that sound amazing together and helps you to experience the connection between drumming rhythm and every day life. \nThe definition of Djembe is “everyone gather together in peace”. Djembe drum circles can feel meditative and peaceful and nurture a sense of friendship and community. \nAt the end of this 5 session class series\, you will know how to play different Djembe rhythms that will stay with you for the rest of your life. \nDropping in on one or more classes is welcome or sign up for all the classes and save. \nDrums are provided. No experience is necessary although experienced drummers may join to practice and immerse in the beats. Lessons will progress and build one session upon the next. \n$35/class or\n$140 for all 5 session pre paid. \nSign up in advance is required.
URL:https://stamford-downtown.com/event/djembe-drum-classes/2026-05-02/
CATEGORIES:Community Events
ATTACH;FMTTYPE=image/jpeg:https://stamford-downtown.com/wp-content/uploads/formidable/5/1-3.jpg
END:VEVENT
BEGIN:VEVENT
DTSTART;TZID=America/New_York:20260509T000000
DTEND;TZID=America/New_York:20260509T000000
DTSTAMP:20260424T071402
CREATED:20260325T143440Z
LAST-MODIFIED:20260325T143440Z
UID:10002059-1778284800-1778284800@stamford-downtown.com
SUMMARY:Djembe Drum Classes
DESCRIPTION:Drumming is fun\, feels good and is easier than you think. In these classes\, Matthew Broad teaches Djembe hand positions\, simple rhythms that sound amazing together and helps you to experience the connection between drumming rhythm and every day life. \nThe definition of Djembe is “everyone gather together in peace”. Djembe drum circles can feel meditative and peaceful and nurture a sense of friendship and community. \nAt the end of this 5 session class series\, you will know how to play different Djembe rhythms that will stay with you for the rest of your life. \nDropping in on one or more classes is welcome or sign up for all the classes and save. \nDrums are provided. No experience is necessary although experienced drummers may join to practice and immerse in the beats. Lessons will progress and build one session upon the next. \n$35/class or\n$140 for all 5 session pre paid. \nSign up in advance is required.
URL:https://stamford-downtown.com/event/djembe-drum-classes/2026-05-09/
CATEGORIES:Community Events
ATTACH;FMTTYPE=image/jpeg:https://stamford-downtown.com/wp-content/uploads/formidable/5/1-3.jpg
END:VEVENT
BEGIN:VEVENT
DTSTART;VALUE=DATE:20260519
DTEND;VALUE=DATE:20260830
DTSTAMP:20260424T071402
CREATED:20250708T185836Z
LAST-MODIFIED:20260409T155910Z
UID:10001236-1779148800-1788047999@stamford-downtown.com
SUMMARY:Street Beats
DESCRIPTION:Street Beats is a pop-up performance initiative designed to energize the downtown through live\, busking-style music.  The program activates public spaces and enhances ambiance for pedestrians and nearby businesses and restaurant patrons. \nPerformance schedule coming soon \nAre you a musician interested in performing?  Street Beats Musician Application >>>\nSubmission Deadline is April 28\, 2026 \n  \n 
URL:https://stamford-downtown.com/event/street-beats/
CATEGORIES:Signature Events
ATTACH;FMTTYPE=image/jpeg:https://stamford-downtown.com/wp-content/uploads/032-2-1.jpg
END:VEVENT
BEGIN:VEVENT
DTSTART;VALUE=DATE:20260530
DTEND;VALUE=DATE:20260531
DTSTAMP:20260424T071402
CREATED:20250310T184857Z
LAST-MODIFIED:20260410T184626Z
UID:10001157-1780099200-1780185599@stamford-downtown.com
SUMMARY:Brews on Bedford
DESCRIPTION:Join us at the 8th Annual Brews on Bedford\nSaturday\, May 30\, 2026\n2-5pm\, 1pm entry for VIP\nLatham Park \nThe event will feature unlimited tastings from local and regional breweries\, food trucks\, live music\, craft vendors and more. \nBreweries include: Berlinetta Brewing\, Best Friends Lunch\, Captain Zig\, Delta Seltzers\, Greenwich Brewing Company\, Half Full Brewery\, Hop & Vine Tap Room\, Nod Hill Brewery\, Twelvenote Brew Co. and Whalers with more being added soon! \nFood & Crafts Vendor List to Come \nAre you a brewery interested in participating?  Email kate@stamford-downtown.com for details. \n  \nBUY TICKETS\n  \n  \n 
URL:https://stamford-downtown.com/event/brews-on-bedford/
LOCATION:Latham Park\, Stamford Downtown\, Latham Park\, Stamford Downtown
CATEGORIES:Signature Events
ATTACH;FMTTYPE=image/jpeg:https://stamford-downtown.com/wp-content/uploads/BREWS.jpg
END:VEVENT
BEGIN:VEVENT
DTSTART;VALUE=DATE:20260613
DTEND;VALUE=DATE:20260913
DTSTAMP:20260424T071402
CREATED:20260122T194936Z
LAST-MODIFIED:20260122T194936Z
UID:10001966-1781308800-1789257599@stamford-downtown.com
SUMMARY:Arts & Crafts on Bedford
DESCRIPTION:Arts & Crafts on Bedford\, one of our longest running signature events returns this June & September! The events feature 60+ talented local and regional artists offering unique\, handcrafted goods.  While you’re there — take a break from shopping to dine at one of the restaurants on Bedford Street and Spring Street offering outdoor dining. \nInterested in becoming an exhibitor?  Learn more & apply >>>  \n  \n 
URL:https://stamford-downtown.com/event/arts-crafts-on-bedford/
LOCATION:Bedford Street\, CT\, United States
CATEGORIES:Signature Events
ATTACH;FMTTYPE=image/jpeg:https://stamford-downtown.com/wp-content/uploads/344567906_534144605464044_6634896849506780289_n.jpg
END:VEVENT
BEGIN:VEVENT
DTSTART;TZID=America/New_York:20261107T000000
DTEND;TZID=America/New_York:20261107T000000
DTSTAMP:20260424T071402
CREATED:20260325T143016Z
LAST-MODIFIED:20260325T143016Z
UID:10002053-1794009600-1794009600@stamford-downtown.com
SUMMARY:Air Supply at The Palace Stamford
DESCRIPTION:Continuing to make musical history with every sold out performance around the world\, legendary pop duo Air Supply is riding the wave of an eventful banner year in 2026\, with concerts across North America\, Australia\, South America\, Europe and Asia\, a biopic in the works\, an impending Star on the Hollywood Walk of Fame and – brace yourselves\, devoted Airheads – A Matter of Time\, their first studio album in 15 years. \nGraham Russell’s heartfelt and soul-piercing songwriting talents\, along with his and Russell Hitchcock’s dynamic trademark vocals\, are on emphatic display throughout the multi-faceted 11-track collection\, due to drop digitally December 3\, with the same release date for an exclusive special edition 80’s style vinyl version.
URL:https://stamford-downtown.com/event/air-supply-at-the-palace-stamford/
CATEGORIES:Community Events
ATTACH;FMTTYPE=image/jpeg:https://stamford-downtown.com/wp-content/uploads/formidable/5/Air-Supply.jpg
END:VEVENT
BEGIN:VEVENT
DTSTART;TZID=America/New_York:20261122T120000
DTEND;TZID=America/New_York:20261122T140000
DTSTAMP:20260424T071402
CREATED:20250318T165833Z
LAST-MODIFIED:20260415T172933Z
UID:10001159-1795348800-1795356000@stamford-downtown.com
SUMMARY:Stamford Downtown Parade Spectacular
DESCRIPTION:SAVE THE DATE!Stamford Downtown Parade Spectacular is Sunday\, November 22\, 2026!\nThe Stamford Downtown Parade Spectacular is the official kick-off to the holiday season on Sunday\, November 22!The parade is one of the largest of its kind in the country with giant helium balloons\, award wining marching bands\, fabulous dance groups and more! \nJoin us the night before the parade for the Giant Balloon Inflation Party. The pre-parade event takes place on Saturday\, November 21\, 3-6pm on Hoyt Street at Summer Street.  The event will give spectators an up-close-and-personal look at the giant balloons as they come to life and features live music\, thrilling performances and special appearances by Santa\, who will greet and delight the crowd. \n  \nInterested in Participating in the Parade?  Learn More & Apply Here >>>  (Application Deadline: June 12\, 2026) \n 
URL:https://stamford-downtown.com/event/stamford-downtown-parade-spectacular/
LOCATION:Stamford Downtown\, Stamford Downtown
CATEGORIES:Signature Events
ATTACH;FMTTYPE=image/jpeg:https://stamford-downtown.com/wp-content/uploads/579-SM.jpg
END:VEVENT
END:VCALENDAR